Package: CPSM Version: 1.2.0 Command: /Library/Frameworks/R.framework/Resources/bin/R CMD build --keep-empty-dirs --no-resave-data CPSM StartedAt: 2025-11-17 20:12:59 -0500 (Mon, 17 Nov 2025) EndedAt: 2025-11-17 20:13:59 -0500 (Mon, 17 Nov 2025) EllapsedTime: 59.6 seconds RetCode: 0 Status: OK PackageFile: CPSM_1.2.0.tar.gz PackageFileSize: 4.315 MiB