Package: CPSM Version: 1.2.0 Command: rm -rf CPSM.buildbin-libdir && mkdir CPSM.buildbin-libdir && /Users/biocbuild/BBS/utils/build-universal.sh CPSM_1.2.0.tar.gz /Library/Frameworks/R.framework/Resources/bin/R CPSM.buildbin-libdir StartedAt: 2025-11-18 15:21:51 -0500 (Tue, 18 Nov 2025) EndedAt: 2025-11-18 15:22:09 -0500 (Tue, 18 Nov 2025) EllapsedTime: 18.2 seconds RetCode: 0 Status: OK PackageFile: CPSM_1.2.0.tgz PackageFileSize: 4.785 MiB