Package: COTAN Version: 2.10.0 Command: /home/biocbuild/bbs-3.22-bioc/R/bin/R CMD INSTALL COTAN StartedAt: 2025-11-20 16:44:31 -0500 (Thu, 20 Nov 2025) EndedAt: 2025-11-20 16:45:18 -0500 (Thu, 20 Nov 2025) EllapsedTime: 46.8 seconds RetCode: 0 Status: OK