Package: COSNet Version: 1.44.0 Command: /home/biocbuild/R/R/bin/R CMD INSTALL COSNet StartedAt: 2025-11-20 21:52:48 -0000 (Thu, 20 Nov 2025) EndedAt: 2025-11-20 21:53:28 -0000 (Thu, 20 Nov 2025) EllapsedTime: 39.8 seconds RetCode: 0 Status: OK