Package: COSNet Version: 1.44.0 Command: /home/biocbuild/R/R/bin/R CMD build --keep-empty-dirs --no-resave-data COSNet StartedAt: 2025-11-21 01:27:09 -0000 (Fri, 21 Nov 2025) EndedAt: 2025-11-21 01:32:55 -0000 (Fri, 21 Nov 2025) EllapsedTime: 346.1 seconds RetCode: 0 Status: OK PackageFile: COSNet_1.44.0.tar.gz PackageFileSize: 503 KiB