Package: COSNet Version: 1.44.0 Command: /Library/Frameworks/R.framework/Resources/bin/R CMD INSTALL COSNet StartedAt: 2025-11-17 16:59:20 -0500 (Mon, 17 Nov 2025) EndedAt: 2025-11-17 16:59:31 -0500 (Mon, 17 Nov 2025) EllapsedTime: 11.6 seconds RetCode: 0 Status: OK