Package: COSNet Version: 1.44.0 Command: /Library/Frameworks/R.framework/Resources/bin/R CMD build --keep-empty-dirs --no-resave-data COSNet StartedAt: 2025-11-17 21:28:07 -0500 (Mon, 17 Nov 2025) EndedAt: 2025-11-17 21:31:26 -0500 (Mon, 17 Nov 2025) EllapsedTime: 199.7 seconds RetCode: 0 Status: OK PackageFile: COSNet_1.44.0.tar.gz PackageFileSize: 519 KiB