Package: COSNet Version: 1.44.0 Command: /Library/Frameworks/R.framework/Resources/bin/R CMD INSTALL COSNet StartedAt: 2025-10-29 21:53:48 -0400 (Wed, 29 Oct 2025) EndedAt: 2025-10-29 21:54:29 -0400 (Wed, 29 Oct 2025) EllapsedTime: 40.9 seconds RetCode: 0 Status: OK