Package: COSNet Version: 1.44.0 Command: /Library/Frameworks/R.framework/Resources/bin/R CMD build --keep-empty-dirs --no-resave-data COSNet StartedAt: 2025-10-29 23:14:57 -0400 (Wed, 29 Oct 2025) EndedAt: 2025-10-29 23:19:53 -0400 (Wed, 29 Oct 2025) EllapsedTime: 296.1 seconds RetCode: 0 Status: OK PackageFile: COSNet_1.44.0.tar.gz PackageFileSize: 518.7 KiB