Package: COSNet Version: 1.44.0 Command: /Library/Frameworks/R.framework/Resources/bin/R CMD build --keep-empty-dirs --no-resave-data COSNet StartedAt: 2025-11-17 20:10:25 -0500 (Mon, 17 Nov 2025) EndedAt: 2025-11-17 20:11:13 -0500 (Mon, 17 Nov 2025) EllapsedTime: 48.4 seconds RetCode: 0 Status: OK PackageFile: COSNet_1.44.0.tar.gz PackageFileSize: 520.2 KiB