Package: COSNet Version: 1.44.0 Command: rm -rf COSNet.buildbin-libdir && mkdir COSNet.buildbin-libdir && /Users/biocbuild/BBS/utils/build-universal.sh COSNet_1.44.0.tar.gz /Library/Frameworks/R.framework/Resources/bin/R COSNet.buildbin-libdir StartedAt: 2025-11-18 15:21:33 -0500 (Tue, 18 Nov 2025) EndedAt: 2025-11-18 15:21:36 -0500 (Tue, 18 Nov 2025) EllapsedTime: 3.1 seconds RetCode: 0 Status: OK PackageFile: COSNet_1.44.0.tgz PackageFileSize: 561.3 KiB