Package: COSNet Version: 1.44.0 Maintainer: Marco Frasca MaintainerEmail: frasca at di.unimi.it git_url: https://git.bioconductor.org/packages/COSNet git_branch: RELEASE_3_22 git_last_commit: d4c8857 git_last_commit_date: 2025-10-29 10:22:51 -0500 (Wed, 29 Oct 2025)