Package: COMPASS Version: 1.47.0 Command: /home/biocbuild/bbs-3.22-bioc/R/bin/R CMD INSTALL COMPASS StartedAt: 2025-10-27 15:11:00 -0400 (Mon, 27 Oct 2025) EndedAt: 2025-10-27 15:11:56 -0400 (Mon, 27 Oct 2025) EllapsedTime: 55.6 seconds RetCode: 0 Status: OK