Package: COMPASS Version: 1.48.0 Command: /Library/Frameworks/R.framework/Resources/bin/R CMD build --keep-empty-dirs --no-resave-data COMPASS StartedAt: 2025-11-10 16:00:16 -0500 (Mon, 10 Nov 2025) EndedAt: 2025-11-10 16:02:09 -0500 (Mon, 10 Nov 2025) EllapsedTime: 112.3 seconds RetCode: 0 Status: OK PackageFile: COMPASS_1.48.0.tar.gz PackageFileSize: 1.305 MiB