Package: COMPASS Version: 1.48.0 Command: rm -rf COMPASS.buildbin-libdir && mkdir COMPASS.buildbin-libdir && /Users/biocbuild/BBS/utils/build-universal.sh COMPASS_1.48.0.tar.gz /Library/Frameworks/R.framework/Resources/bin/R COMPASS.buildbin-libdir StartedAt: 2025-11-10 23:15:41 -0500 (Mon, 10 Nov 2025) EndedAt: 2025-11-10 23:15:49 -0500 (Mon, 10 Nov 2025) EllapsedTime: 7.1 seconds RetCode: 0 Status: OK PackageFile: COMPASS_1.48.0.tgz PackageFileSize: 1.42 MiB