Package: COCOA Version: 2.24.0 Command: /home/biocbuild/bbs-3.22-bioc/R/bin/R CMD INSTALL COCOA StartedAt: 2025-11-17 17:44:42 -0500 (Mon, 17 Nov 2025) EndedAt: 2025-11-17 17:45:32 -0500 (Mon, 17 Nov 2025) EllapsedTime: 50.7 seconds RetCode: 0 Status: OK