Package: CNTools Version: 1.66.0 Command: /home/biocbuild/bbs-3.22-bioc/R/bin/R CMD INSTALL CNTools StartedAt: 2025-11-02 15:39:53 -0500 (Sun, 02 Nov 2025) EndedAt: 2025-11-02 15:40:19 -0500 (Sun, 02 Nov 2025) EllapsedTime: 26.4 seconds RetCode: 0 Status: OK