Package: CNORode Version: 1.51.0 Command: /home/biocbuild/bbs-3.22-bioc/R/bin/R CMD INSTALL CNORode StartedAt: 2025-10-24 15:25:42 -0400 (Fri, 24 Oct 2025) EndedAt: 2025-10-24 15:25:58 -0400 (Fri, 24 Oct 2025) EllapsedTime: 16.4 seconds RetCode: 0 Status: OK