Package: CNORode Version: 1.51.0 Command: /home/biocbuild/bbs-3.22-bioc/R/bin/R CMD build --keep-empty-dirs --no-resave-data --md5 CNORode StartedAt: 2025-10-24 17:04:20 -0400 (Fri, 24 Oct 2025) EndedAt: 2025-10-24 17:04:52 -0400 (Fri, 24 Oct 2025) EllapsedTime: 32.0 seconds RetCode: 0 Status: OK PackageFile: CNORode_1.51.0.tar.gz PackageFileSize: 492.1 KiB