Package: CNORode Version: 1.52.0 Command: /Library/Frameworks/R.framework/Resources/bin/R CMD INSTALL CNORode StartedAt: 2025-11-10 15:10:18 -0500 (Mon, 10 Nov 2025) EndedAt: 2025-11-10 15:10:25 -0500 (Mon, 10 Nov 2025) EllapsedTime: 7.1 seconds RetCode: 0 Status: OK