Package: CNORode Version: 1.52.0 Command: /Library/Frameworks/R.framework/Resources/bin/R CMD build --keep-empty-dirs --no-resave-data CNORode StartedAt: 2025-11-10 15:58:42 -0500 (Mon, 10 Nov 2025) EndedAt: 2025-11-10 15:58:55 -0500 (Mon, 10 Nov 2025) EllapsedTime: 13.1 seconds RetCode: 0 Status: OK PackageFile: CNORode_1.52.0.tar.gz PackageFileSize: 517.7 KiB