Package: CNORfuzzy Version: 1.51.0 Command: /home/biocbuild/bbs-3.22-bioc/R/bin/R CMD INSTALL CNORfuzzy StartedAt: 2025-10-27 15:17:19 -0400 (Mon, 27 Oct 2025) EndedAt: 2025-10-27 15:17:28 -0400 (Mon, 27 Oct 2025) EllapsedTime: 9.2 seconds RetCode: 0 Status: OK