Package: CNORfuzzy Version: 1.52.0 Command: /Library/Frameworks/R.framework/Resources/bin/R CMD INSTALL CNORfuzzy StartedAt: 2025-11-17 17:18:17 -0500 (Mon, 17 Nov 2025) EndedAt: 2025-11-17 17:18:40 -0500 (Mon, 17 Nov 2025) EllapsedTime: 22.8 seconds RetCode: 0 Status: OK