Package: CNORfuzzy Version: 1.52.0 Command: /Library/Frameworks/R.framework/Resources/bin/R CMD build --keep-empty-dirs --no-resave-data CNORfuzzy StartedAt: 2025-11-17 21:18:37 -0500 (Mon, 17 Nov 2025) EndedAt: 2025-11-17 21:19:39 -0500 (Mon, 17 Nov 2025) EllapsedTime: 61.3 seconds RetCode: 0 Status: OK PackageFile: CNORfuzzy_1.52.0.tar.gz PackageFileSize: 920.4 KiB