Package: CNORfuzzy Version: 1.51.0 Command: /Library/Frameworks/R.framework/Resources/bin/R CMD INSTALL CNORfuzzy StartedAt: 2025-10-28 15:22:26 -0400 (Tue, 28 Oct 2025) EndedAt: 2025-10-28 15:22:42 -0400 (Tue, 28 Oct 2025) EllapsedTime: 15.9 seconds RetCode: 0 Status: OK