Package: CNORfuzzy Version: 1.51.0 Command: /Library/Frameworks/R.framework/Resources/bin/R CMD INSTALL CNORfuzzy StartedAt: 2025-10-27 15:08:06 -0400 (Mon, 27 Oct 2025) EndedAt: 2025-10-27 15:08:10 -0400 (Mon, 27 Oct 2025) EllapsedTime: 3.8 seconds RetCode: 0 Status: OK