Package: CNORfuzzy Version: 1.52.0 Command: /Library/Frameworks/R.framework/Resources/bin/R CMD INSTALL CNORfuzzy StartedAt: 2025-11-17 17:14:39 -0500 (Mon, 17 Nov 2025) EndedAt: 2025-11-17 17:14:44 -0500 (Mon, 17 Nov 2025) EllapsedTime: 4.4 seconds RetCode: 0 Status: OK