Package: CNORfuzzy Version: 1.52.0 Command: rm -rf CNORfuzzy.buildbin-libdir && mkdir CNORfuzzy.buildbin-libdir && /Users/biocbuild/BBS/utils/build-universal.sh CNORfuzzy_1.52.0.tar.gz /Library/Frameworks/R.framework/Resources/bin/R CNORfuzzy.buildbin-libdir StartedAt: 2025-11-18 15:18:59 -0500 (Tue, 18 Nov 2025) EndedAt: 2025-11-18 15:19:06 -0500 (Tue, 18 Nov 2025) EllapsedTime: 7.1 seconds RetCode: 0 Status: OK PackageFile: CNORfuzzy_1.52.0.tgz PackageFileSize: 691.8 KiB