Package: CNORfeeder Version: 1.50.0 Command: /home/biocbuild/bbs-3.22-bioc/R/bin/R CMD INSTALL CNORfeeder StartedAt: 2025-11-09 15:14:54 -0500 (Sun, 09 Nov 2025) EndedAt: 2025-11-09 15:15:03 -0500 (Sun, 09 Nov 2025) EllapsedTime: 8.4 seconds RetCode: 0 Status: OK