Package: CNORdt Version: 1.52.0 Command: /home/biocbuild/bbs-3.22-bioc/R/bin/R CMD INSTALL CNORdt StartedAt: 2025-11-20 16:06:54 -0500 (Thu, 20 Nov 2025) EndedAt: 2025-11-20 16:07:03 -0500 (Thu, 20 Nov 2025) EllapsedTime: 8.5 seconds RetCode: 0 Status: OK