Package: CNORdt Version: 1.52.0 Command: /home/biocbuild/bbs-3.22-bioc/R/bin/R CMD build --keep-empty-dirs --no-resave-data --md5 CNORdt StartedAt: 2025-11-20 17:46:09 -0500 (Thu, 20 Nov 2025) EndedAt: 2025-11-20 17:46:52 -0500 (Thu, 20 Nov 2025) EllapsedTime: 43.0 seconds RetCode: 0 Status: OK PackageFile: CNORdt_1.52.0.tar.gz PackageFileSize: 320 KiB