Package: CMA Version: 1.68.0 Command: /home/biocbuild/bbs-3.22-bioc/R/bin/R CMD INSTALL CMA StartedAt: 2025-10-30 15:12:04 -0400 (Thu, 30 Oct 2025) EndedAt: 2025-10-30 15:12:17 -0400 (Thu, 30 Oct 2025) EllapsedTime: 13.1 seconds RetCode: 0 Status: OK