Package: CINdex Version: 1.38.0 Command: /home/biocbuild/bbs-3.22-bioc/R/bin/R CMD INSTALL CINdex StartedAt: 2025-11-03 15:17:02 -0500 (Mon, 03 Nov 2025) EndedAt: 2025-11-03 15:17:26 -0500 (Mon, 03 Nov 2025) EllapsedTime: 24.3 seconds RetCode: 0 Status: OK