Package: CINdex Version: 1.38.0 Command: /home/biocbuild/bbs-3.22-bioc/R/bin/R CMD build --keep-empty-dirs --no-resave-data --md5 CINdex StartedAt: 2025-11-03 16:52:54 -0500 (Mon, 03 Nov 2025) EndedAt: 2025-11-03 16:55:57 -0500 (Mon, 03 Nov 2025) EllapsedTime: 182.2 seconds RetCode: 0 Status: OK PackageFile: CINdex_1.38.0.tar.gz PackageFileSize: 12.51 MiB