Package: CIMICE Version: 1.18.0 Command: /home/biocbuild/bbs-3.22-bioc/R/bin/R CMD INSTALL CIMICE StartedAt: 2025-11-06 15:10:47 -0500 (Thu, 06 Nov 2025) EndedAt: 2025-11-06 15:11:02 -0500 (Thu, 06 Nov 2025) EllapsedTime: 14.8 seconds RetCode: 0 Status: OK