Package: CIMICE Version: 1.18.0 Command: /home/biocbuild/bbs-3.22-bioc/R/bin/R CMD build --keep-empty-dirs --no-resave-data --md5 CIMICE StartedAt: 2025-11-06 16:51:18 -0500 (Thu, 06 Nov 2025) EndedAt: 2025-11-06 16:51:43 -0500 (Thu, 06 Nov 2025) EllapsedTime: 25.0 seconds RetCode: 0 Status: OK PackageFile: CIMICE_1.18.0.tar.gz PackageFileSize: 1.598 MiB