Package: CHRONOS Version: 1.38.0 Command: /Library/Frameworks/R.framework/Resources/bin/R CMD build --keep-empty-dirs --no-resave-data CHRONOS StartedAt: 2025-11-10 15:56:12 -0500 (Mon, 10 Nov 2025) EndedAt: 2025-11-10 16:36:13 -0500 (Mon, 10 Nov 2025) EllapsedTime: 2401.0 seconds RetCode: None Status: TIMEOUT PackageFile: None PackageFileSize: NA