Package: CGHregions Version: 1.68.0 Command: /home/biocbuild/bbs-3.22-bioc/R/bin/R CMD INSTALL CGHregions StartedAt: 2025-11-03 15:14:53 -0500 (Mon, 03 Nov 2025) EndedAt: 2025-11-03 15:14:58 -0500 (Mon, 03 Nov 2025) EllapsedTime: 4.3 seconds RetCode: 0 Status: OK