Package: CGHbase Version: 1.70.0 Command: /Library/Frameworks/R.framework/Resources/bin/R CMD INSTALL CGHbase StartedAt: 2025-11-10 15:10:12 -0500 (Mon, 10 Nov 2025) EndedAt: 2025-11-10 15:10:15 -0500 (Mon, 10 Nov 2025) EllapsedTime: 3.0 seconds RetCode: 0 Status: OK