Package: CGHbase Version: 1.70.0 Command: /Library/Frameworks/R.framework/Resources/bin/R CMD build --keep-empty-dirs --no-resave-data CGHbase StartedAt: 2025-11-10 15:54:20 -0500 (Mon, 10 Nov 2025) EndedAt: 2025-11-10 15:54:21 -0500 (Mon, 10 Nov 2025) EllapsedTime: 1.0 seconds RetCode: 0 Status: OK PackageFile: CGHbase_1.70.0.tar.gz PackageFileSize: 848 KiB