Package: CGEN Version: 3.46.0 Command: /home/biocbuild/bbs-3.22-bioc/R/bin/R CMD INSTALL CGEN StartedAt: 2025-11-06 15:04:36 -0500 (Thu, 06 Nov 2025) EndedAt: 2025-11-06 15:04:59 -0500 (Thu, 06 Nov 2025) EllapsedTime: 23.0 seconds RetCode: 0 Status: OK