Package: CGEN Version: 3.46.0 Command: /home/biocbuild/bbs-3.22-bioc/R/bin/R CMD build --keep-empty-dirs --no-resave-data --md5 CGEN StartedAt: 2025-11-06 16:47:06 -0500 (Thu, 06 Nov 2025) EndedAt: 2025-11-06 16:47:51 -0500 (Thu, 06 Nov 2025) EllapsedTime: 45.0 seconds RetCode: 0 Status: OK PackageFile: CGEN_3.46.0.tar.gz PackageFileSize: 985.4 KiB