Package: CDI Version: 1.8.0 Command: /home/biocbuild/bbs-3.22-bioc/R/bin/R CMD INSTALL CDI StartedAt: 2025-11-16 15:19:59 -0500 (Sun, 16 Nov 2025) EndedAt: 2025-11-16 15:20:35 -0500 (Sun, 16 Nov 2025) EllapsedTime: 35.8 seconds RetCode: 0 Status: OK