Package: CDI Version: 1.8.0 Command: /home/biocbuild/bbs-3.22-bioc/R/bin/R CMD build --keep-empty-dirs --no-resave-data --md5 CDI StartedAt: 2025-11-16 16:47:19 -0500 (Sun, 16 Nov 2025) EndedAt: 2025-11-16 16:55:03 -0500 (Sun, 16 Nov 2025) EllapsedTime: 463.4 seconds RetCode: 0 Status: OK PackageFile: CDI_1.8.0.tar.gz PackageFileSize: 2.051 MiB