Package: CCPlotR Version: 1.8.0 Command: /home/biocbuild/R/R/bin/R CMD INSTALL CCPlotR StartedAt: 2025-11-24 21:20:24 -0000 (Mon, 24 Nov 2025) EndedAt: 2025-11-24 21:20:41 -0000 (Mon, 24 Nov 2025) EllapsedTime: 16.7 seconds RetCode: 0 Status: OK