Package: CCPlotR Version: 1.7.0 Command: /home/biocbuild/bbs-3.22-bioc/R/bin/R CMD INSTALL CCPlotR StartedAt: 2025-10-24 15:25:14 -0400 (Fri, 24 Oct 2025) EndedAt: 2025-10-24 15:25:27 -0400 (Fri, 24 Oct 2025) EllapsedTime: 12.6 seconds RetCode: 0 Status: OK