Package: CCPlotR Version: 1.7.0 Command: /home/biocbuild/bbs-3.22-bioc/R/bin/R CMD build --keep-empty-dirs --no-resave-data --md5 CCPlotR StartedAt: 2025-10-24 16:50:09 -0400 (Fri, 24 Oct 2025) EndedAt: 2025-10-24 16:50:46 -0400 (Fri, 24 Oct 2025) EllapsedTime: 37.0 seconds RetCode: 0 Status: OK PackageFile: CCPlotR_1.7.0.tar.gz PackageFileSize: 4.691 MiB