Package: CCPlotR Version: 1.8.0 Command: /Library/Frameworks/R.framework/Resources/bin/R CMD INSTALL CCPlotR StartedAt: 2025-11-17 17:16:15 -0500 (Mon, 17 Nov 2025) EndedAt: 2025-11-17 17:16:42 -0500 (Mon, 17 Nov 2025) EllapsedTime: 27.1 seconds RetCode: 0 Status: OK