Package: CCPlotR Version: 1.8.0 Command: /Library/Frameworks/R.framework/Resources/bin/R CMD INSTALL CCPlotR StartedAt: 2025-11-03 15:21:26 -0500 (Mon, 03 Nov 2025) EndedAt: 2025-11-03 15:21:46 -0500 (Mon, 03 Nov 2025) EllapsedTime: 20.0 seconds RetCode: 0 Status: OK