Package: CCPlotR Version: 1.8.0 Command: /Library/Frameworks/R.framework/Resources/bin/R CMD build --keep-empty-dirs --no-resave-data CCPlotR StartedAt: 2025-11-03 16:22:20 -0500 (Mon, 03 Nov 2025) EndedAt: 2025-11-03 16:23:02 -0500 (Mon, 03 Nov 2025) EllapsedTime: 42.2 seconds RetCode: 0 Status: OK PackageFile: CCPlotR_1.8.0.tar.gz PackageFileSize: 4.948 MiB